BEGIN:VCALENDAR
VERSION:2.0
PRODID:-//Club Alpino Italiano - Sezione di Senigallia - ECPv6.8.3//NONSGML v1.0//EN
CALSCALE:GREGORIAN
METHOD:PUBLISH
X-WR-CALNAME:Club Alpino Italiano - Sezione di Senigallia
X-ORIGINAL-URL:https://www.caisenigallia.it
X-WR-CALDESC:Eventi per Club Alpino Italiano - Sezione di Senigallia
REFRESH-INTERVAL;VALUE=DURATION:PT1H
X-Robots-Tag:noindex
X-PUBLISHED-TTL:PT1H
BEGIN:VTIMEZONE
TZID:Europe/Rome
BEGIN:DAYLIGHT
TZOFFSETFROM:+0100
TZOFFSETTO:+0200
TZNAME:CEST
DTSTART:20260329T010000
END:DAYLIGHT
BEGIN:STANDARD
TZOFFSETFROM:+0200
TZOFFSETTO:+0100
TZNAME:CET
DTSTART:20261025T010000
END:STANDARD
END:VTIMEZONE
BEGIN:VEVENT
DTSTART;TZID=Europe/Rome:20260613T070000
DTEND;TZID=Europe/Rome:20260614T170000
DTSTAMP:20260421T025256
CREATED:20260402T155658Z
LAST-MODIFIED:20260402T155658Z
UID:3464-1781334000-1781456400@www.caisenigallia.it
SUMMARY:SENTIERO GROPPI E ALPE DI SUCCISO
DESCRIPTION:
URL:https://www.caisenigallia.it/evento/sentiero-groppi-e-alpe-di-succiso/
CATEGORIES:Riservato ai Soci,Uscite Gruppo di Escursionismo
END:VEVENT
END:VCALENDAR